BEGIN:VCALENDAR
VERSION:2.0
PRODID:-//Les Amis des Chemins de Compostelle du Nord - ECPv4.5.1//NONSGML v1.0//EN
CALSCALE:GREGORIAN
METHOD:PUBLISH
X-WR-CALNAME:Les Amis des Chemins de Compostelle du Nord
X-ORIGINAL-URL:https://www.compostelle-nord.com
X-WR-CALDESC:Events for Les Amis des Chemins de Compostelle du Nord
BEGIN:VEVENT
DTSTART;TZID=Europe/Paris:20250612T173000
DTEND;TZID=Europe/Paris:20250612T193000
DTSTAMP:20260422T183945
CREATED:20250531T084525Z
LAST-MODIFIED:20250531T084525Z
UID:5661-1749749400-1749756600@www.compostelle-nord.com
SUMMARY:ACCUEIL et INFORMATION – A la Passerelle – Euralille – Avenue Willy Brandt\, Entrée D par l’escalator
DESCRIPTION:\n\nAccueil des futurs pèlerins par les membres de l’association: information sur les chemins\, adhésion\, demande de credencial…\n\nSi vous avez des questions particulières\, merci de les envoyer auparavant par mail à l’association compostelle.nord@gmail.com afin que nous puissions y répondre au mieux !\n\n
URL:https://www.compostelle-nord.com/event/accueil-et-information-a-la-passerelle-euralille-avenue-willy-brandt-entree-d-par-lescalator/
LOCATION:Centre Euralille \, Lille\, 59000\, France
END:VEVENT
END:VCALENDAR