BEGIN:VCALENDAR
VERSION:2.0
PRODID:-//Les Amis des Chemins de Compostelle du Nord - ECPv4.5.1//NONSGML v1.0//EN
CALSCALE:GREGORIAN
METHOD:PUBLISH
X-WR-CALNAME:Les Amis des Chemins de Compostelle du Nord
X-ORIGINAL-URL:https://www.compostelle-nord.com
X-WR-CALDESC:Events for Les Amis des Chemins de Compostelle du Nord
BEGIN:VEVENT
DTSTART;TZID=Europe/Paris:20240323T090000
DTEND;TZID=Europe/Paris:20240323T120000
DTSTAMP:20260424T054926
CREATED:20231121T141407Z
LAST-MODIFIED:20240317T090224Z
UID:3622-1711184400-1711195200@www.compostelle-nord.com
SUMMARY:CHOISIR SON CHEMIN - A la Maison des Associations\, 27 rue Jean Bart à LILLE (changement d'horaire)
DESCRIPTION:ATTENTION : CHANGEMENT D'HORAIRE\nLa réunion se tiendra à la Maison des Associations\, de 9 h à 12 h.\nPour vous permettre de choisir l'un des chemins qui mènent à Compostelle avec des spécialistes qui pourront vous guider et donner toutes les informations nécessaires.\n\n\n\n 
URL:https://www.compostelle-nord.com/event/choisir-son-chemin-a-la-maison-des-associations-27-rue-jean-bart-a-lille/
END:VEVENT
END:VCALENDAR