BEGIN:VCALENDAR
VERSION:2.0
PRODID:-//Les Amis des Chemins de Compostelle du Nord - ECPv4.5.1//NONSGML v1.0//EN
CALSCALE:GREGORIAN
METHOD:PUBLISH
X-WR-CALNAME:Les Amis des Chemins de Compostelle du Nord
X-ORIGINAL-URL:https://www.compostelle-nord.com
X-WR-CALDESC:Events for Les Amis des Chemins de Compostelle du Nord
BEGIN:VEVENT
DTSTART;TZID=Europe/Paris:20260110T090000
DTEND;TZID=Europe/Paris:20260110T130000
DTSTAMP:20260420T083517
CREATED:20251202T144821Z
LAST-MODIFIED:20251202T144821Z
UID:7091-1768035600-1768050000@www.compostelle-nord.com
SUMMARY:Le Tournaisis et la via Scaldea
DESCRIPTION:Michel nous propose une randonnée dans le Tournaisis.\n9h15 : rendez-vous sur le parking\, 1 rue de chantier\, 7500 Tournai - Hainaut - Belgique.\n\n9h30 : départ de la randonnée.\nDistance : 12 km.\nNotre marche suivra la via Scaldea à la sortie de Tournai en passant par le moulin des Sottises et la\nCroix Morlinghem.\nLe site des 5 Rocs\, les fours à chaux de Chercq et la chapelle Notre-Dame-de-Grâce seront au menu\nde la seconde partie de notre circuit.\nCes endroits très prisés du Tournaisis seront agrémentés de (courts) commentaires.\nIl sera possible de boire un coup au centre commercial des Bastions.
URL:https://www.compostelle-nord.com/event/le-tournaisis-et-la-via-scaldea/
LOCATION:1 rue de Chantier\, Tournai\, 7500\, Belgique
END:VEVENT
END:VCALENDAR