BEGIN:VCALENDAR
VERSION:2.0
PRODID:-//Les Amis des Chemins de Compostelle du Nord - ECPv4.5.1//NONSGML v1.0//EN
CALSCALE:GREGORIAN
METHOD:PUBLISH
X-WR-CALNAME:Les Amis des Chemins de Compostelle du Nord
X-ORIGINAL-URL:https://www.compostelle-nord.com
X-WR-CALDESC:Events for Les Amis des Chemins de Compostelle du Nord
BEGIN:VEVENT
DTSTART;TZID=Europe/Paris:20260209T190000
DTEND;TZID=Europe/Paris:20260209T213000
DTSTAMP:20260420T065201
CREATED:20260107T155339Z
LAST-MODIFIED:20260107T155547Z
UID:7186-1770663600-1770672600@www.compostelle-nord.com
SUMMARY:Rencontre à Tournai : Partir de chez soi vers Compostelle en traversant les Hauts de France
DESCRIPTION:Echanges d'informations et d'expèriences autour du thème : Partir de chez soi\nadresse : Centre Pastoral Saint Brice\, 55 Rue du Quesnoy\, 7500 Tournai ( Belgique) .\nLe point-rencontre débute à 19h.\nÀ cette heure-là\, le parking est gratuit et il y a de la place en suffisance dans la rue.\nC’est l’occasion de retrouver nos voisins et amis belges et d’échanger nos\ninformations sur les chemins en toute amitié.
URL:https://www.compostelle-nord.com/event/ncontre-a-tournai-partir-de-chez-soi-vers-compostelle-en-traversant-les-hauts-de-france/
LOCATION:55 Rue du Quesnoy\, Tournai\, Belgique\, 7500
END:VEVENT
END:VCALENDAR