BEGIN:VCALENDAR
VERSION:2.0
PRODID:-//Les Amis des Chemins de Compostelle du Nord - ECPv4.5.1//NONSGML v1.0//EN
CALSCALE:GREGORIAN
METHOD:PUBLISH
X-WR-CALNAME:Les Amis des Chemins de Compostelle du Nord
X-ORIGINAL-URL:https://www.compostelle-nord.com
X-WR-CALDESC:Events for Les Amis des Chemins de Compostelle du Nord
BEGIN:VEVENT
DTSTART;TZID=Europe/Paris:20240309T091500
DTEND;TZID=Europe/Paris:20240309T123000
DTSTAMP:20260424T054311
CREATED:20231121T141635Z
LAST-MODIFIED:20240304T105944Z
UID:3626-1709975700-1709987400@www.compostelle-nord.com
SUMMARY:SAMEDI 9 MARS 2024 - CHANGEMENT DU LIEU DE RANDONNEE
DESCRIPTION:Nous vous avons proposé de venir randonner avec nous à Fretin et particulièrement dans les marais\, ce samedi 9 mars.\nLes conditions météo ont rendu les chemins impraticables\, la Marque étant sortie de son lit.\nNous proposerons de nouveau ce circuit ultérieurement.\nEn remplacement\, nous vous invitons à Wambrechies pour une randonnée de 12 kilomètres.\n\nRENDEZ VOUS LE SAMEDI 9 MARS à 9h15\npour un départ de la randonnée à 9h30\nParking du Château de Robersart à Wambrechies\nPour une randonnée d'environ 12km sans difficulté particulière.\n\nLe circuit du Genièvre présente un joli circuit\, débutant en plein cœur de Wambrechies\, se poursuit le long du canal de la Deûle\, avant de continuer sur des chemins champêtres.\nIl est possible d'admirer le château de Robersart au départ\, construit en 1760\, de style Renaissance\, l'ancien Hôtel de ville de style flamand\, l'église Saint Vaast\, ainsi que\, à mi-chemin\, la brasserie Catry bâtie en 1885\, de style flamand. Sur le chemin aussi\, la distillerie de genièvre Claeyssens.\n\n
URL:https://www.compostelle-nord.com/event/randonnee-3/
END:VEVENT
END:VCALENDAR