BEGIN:VCALENDAR
VERSION:2.0
PRODID:-//Les Amis des Chemins de Compostelle du Nord - ECPv4.5.1//NONSGML v1.0//EN
CALSCALE:GREGORIAN
METHOD:PUBLISH
X-WR-CALNAME:Les Amis des Chemins de Compostelle du Nord
X-ORIGINAL-URL:https://www.compostelle-nord.com
X-WR-CALDESC:Events for Les Amis des Chemins de Compostelle du Nord
BEGIN:VEVENT
DTSTART;TZID=Europe/Paris:20250412T093000
DTEND;TZID=Europe/Paris:20250412T123000
DTSTAMP:20260424T185552
CREATED:20250210T183229Z
LAST-MODIFIED:20250318T165011Z
UID:4719-1744450200-1744461000@www.compostelle-nord.com
SUMMARY:RANDONNEE EN BELGIQUE\, le long de l'Escaut\, le samedi 12 avril 2025
DESCRIPTION:Notre ami Bruno nous propose une randonnée de 10 km\, le samedi 12 avril 2025\, le long de l'Escaut\, sur les chemins de La Francigena et de Compostelle.\n\nRendez-vous à 9h15\, parking de l'église\, place Robecijn\, 8587 ESPIERRE\, BELGIQUE\n\npour un départ à 9h30 précises.\nL'association des amis des chemins de Compostelle recommande à chacun des participants\nd'avoir une assurance personnelle pour la randonnée.\nNous préconisons à chacun de prendre la "rando-pass" de la Fédération Française de Randonnée Pédestre.\n
URL:https://www.compostelle-nord.com/event/randonnee-en-belgique-le-long-de-lescaut-le-samedi-12-avril-2025/
LOCATION:place Robecijn\, ESPIERRE \, 8587 \, Belgique
END:VEVENT
END:VCALENDAR