BEGIN:VCALENDAR
VERSION:2.0
PRODID:-//Les Amis des Chemins de Compostelle du Nord - ECPv4.5.1//NONSGML v1.0//EN
CALSCALE:GREGORIAN
METHOD:PUBLISH
X-WR-CALNAME:Les Amis des Chemins de Compostelle du Nord
X-ORIGINAL-URL:https://www.compostelle-nord.com
X-WR-CALDESC:Events for Les Amis des Chemins de Compostelle du Nord
BEGIN:VEVENT
DTSTART;TZID=Europe/Paris:20250510T090000
DTEND;TZID=Europe/Paris:20250510T133000
DTSTAMP:20260422T202001
CREATED:20250324T143903Z
LAST-MODIFIED:20250324T144947Z
UID:4819-1746867600-1746883800@www.compostelle-nord.com
SUMMARY:Randonnée du samedi 10 mai 2025  : Entre Bois et Marais - Fretin -
DESCRIPTION:Randonnée du samedi 10 mai 2025 dans les marais de Fretin  : Entre marais\, étangs et bois\,\nau cœur d’une réserve naturelle aménagée par la MEL. Prévoyez une paire de jumelles pour observer les oiseaux.\n\nRendez-vous à 9h15 : parking au 74 rue du Maréchal-Foch à Fretin 59273 ( face au 61).\n\nDépart de la randonnée à 9H30 précises . distance environ 10 km - aucune difficulté\, terrain plat \, mais peut être humide !\n\nL'association des amis des chemins de Compostelle recommande à chacun des participants\nd'avoir une assurance personnelle pour la randonnée.\nNous préconisons à chacun de prendre la "rando-pass" de la Fédération Française de Randonnée Pédestre.\n\n\n 
URL:https://www.compostelle-nord.com/event/rando-du-10-mai-entre-bois-et-marais-fretin/
LOCATION:74 rue du marechal Foch\, Fretin\, 59273\, France
END:VEVENT
END:VCALENDAR