BEGIN:VCALENDAR
VERSION:2.0
PRODID:-//Les Amis des Chemins de Compostelle du Nord - ECPv4.5.1//NONSGML v1.0//EN
CALSCALE:GREGORIAN
METHOD:PUBLISH
X-WR-CALNAME:Les Amis des Chemins de Compostelle du Nord
X-ORIGINAL-URL:https://www.compostelle-nord.com
X-WR-CALDESC:Events for Les Amis des Chemins de Compostelle du Nord
BEGIN:VEVENT
DTSTART;TZID=Europe/Paris:20250524T100000
DTEND;TZID=Europe/Paris:20250524T120000
DTSTAMP:20260422T202654
CREATED:20240830T213214Z
LAST-MODIFIED:20250319T085016Z
UID:4411-1748080800-1748088000@www.compostelle-nord.com
SUMMARY:ACCUEIL et INFORMATION - A la Maison des Associations\, 27 rue Jean Bart à LILLE (Lille centre - A vérifier sur vos GPS)
DESCRIPTION:Accueil des futurs pèlerins par les membres de l’association: information sur les chemins\, adhésion\, demande de credencial…\n\nSi vous avez des questions particulières\, merci de les envoyer auparavant par mail à l'association compostelle.nord@gmail.com afin que nous puissions y répondre au mieux !
URL:https://www.compostelle-nord.com/event/accueil-et-information-a-la-maison-des-associations-27-rue-jean-bart-a-lille-18/
LOCATION:27\, rue Jean Bart\, Lille\, 59000\, France
END:VEVENT
END:VCALENDAR