BEGIN:VCALENDAR
VERSION:2.0
PRODID:-//Les Amis des Chemins de Compostelle du Nord - ECPv4.5.1//NONSGML v1.0//EN
CALSCALE:GREGORIAN
METHOD:PUBLISH
X-WR-CALNAME:Les Amis des Chemins de Compostelle du Nord
X-ORIGINAL-URL:https://www.compostelle-nord.com
X-WR-CALDESC:Events for Les Amis des Chemins de Compostelle du Nord
BEGIN:VEVENT
DTSTART;TZID=Europe/Paris:20250614T093000
DTEND;TZID=Europe/Paris:20250614T123000
DTSTAMP:20260422T184042
CREATED:20250417T085338Z
LAST-MODIFIED:20250902T143420Z
UID:5114-1749893400-1749904200@www.compostelle-nord.com
SUMMARY:Patrimoine de Roncq - Halluin ... Chapelle\, étang\, estaminet\, ferme pédagogique.
DESCRIPTION:Randonnée du samedi 14 juin organisée par Agnès :\nPatrimoine de Roncq - Halluin ... Chapelle\, étang\, estaminet\, ferme pédagogique.\n\nRdV : Parking 301 Rue de Lille à Roncq\, à côté du Centre Actival face à la friterie de la Gare.\n\nA 9h15\, départ 9h30 précise.\n\nDistance : 9\,5 km env - Chemin facile à la découverte de plusieurs centres d’intérêts.\n\nL'association des amis des chemins de Compostelle recommande à chacun des participants\n\nd'avoir une assurance personnelle pour la randonnée.\n\nNous préconisons à chacun de prendre la "rando-pass" de la Fédération Française de Randonnée.\n\n
URL:https://www.compostelle-nord.com/event/patrimoine-de-roncq-halluin-chapelle-etang-estaminet-ferme-pedagogique/
LOCATION:301 rue de lille\, Roncq\, 59223\, France
END:VEVENT
END:VCALENDAR