BEGIN:VCALENDAR
VERSION:2.0
PRODID:-//Les Amis des Chemins de Compostelle du Nord - ECPv4.5.1//NONSGML v1.0//EN
CALSCALE:GREGORIAN
METHOD:PUBLISH
X-WR-CALNAME:Les Amis des Chemins de Compostelle du Nord
X-ORIGINAL-URL:https://www.compostelle-nord.com
X-WR-CALDESC:Events for Les Amis des Chemins de Compostelle du Nord
BEGIN:VEVENT
DTSTART;TZID=Europe/Paris:20250719T100000
DTEND;TZID=Europe/Paris:20250719T120000
DTSTAMP:20260422T172047
CREATED:20240830T213509Z
LAST-MODIFIED:20250203T093341Z
UID:4415-1752919200-1752926400@www.compostelle-nord.com
SUMMARY:ACCUEIL et INFORMATION - A la Passerelle - EURALILLE - Avenue Willy Brandt\, Entrée D par l'escalator
DESCRIPTION:Accueil des futurs pèlerins par les membres de l’association: information sur les chemins\, adhésion\, demande de credencial…\n\nSi vous avez des questions particulières\, merci de les envoyer auparavant par mail à l'association compostelle.nord@gmail.com afin que nous puissions y répondre au mieux !
URL:https://www.compostelle-nord.com/event/accueil-et-information-a-la-maison-des-associations-27-rue-jean-bart-a-lille-20/
END:VEVENT
END:VCALENDAR