BEGIN:VCALENDAR
VERSION:2.0
PRODID:-//Les Amis des Chemins de Compostelle du Nord - ECPv4.5.1//NONSGML v1.0//EN
CALSCALE:GREGORIAN
METHOD:PUBLISH
X-WR-CALNAME:Les Amis des Chemins de Compostelle du Nord
X-ORIGINAL-URL:https://www.compostelle-nord.com
X-WR-CALDESC:Events for Les Amis des Chemins de Compostelle du Nord
BEGIN:VEVENT
DTSTART;VALUE=DATE:20250809
DTEND;VALUE=DATE:20250809
DTSTAMP:20260422T152328
CREATED:20250618T125710Z
LAST-MODIFIED:20250902T143449Z
UID:5976-1754697600-1754783999@www.compostelle-nord.com
SUMMARY:Balade sur la journée dans les Flandres\, au pays de Marguerite Yourcenar
DESCRIPTION:Rendez-vous à 9h15 :  Parking de la salle des sports à Saint Jans-Cappel (59270)\npour un départ à 9h30.\n\nDistance : 15km environ\nPrévoir le pique-nique et une tenue adaptée à la météo.\nL'association des amis des chemins de Compostelle du Nord recommande\nà chacun des participants d’avoir une assurance personnelle pour la randonnée.\nNous préconisons à chacun de prendre la "rando-pass" de la Fédération Française de Randonnée.\n
URL:https://www.compostelle-nord.com/event/balade-sur-la-journee-dans-les-flandres-au-pays-de-marguerite-yourcenar/
LOCATION:chemin haut\, Saint jans Cappel\, 59270\, France
END:VEVENT
END:VCALENDAR