BEGIN:VCALENDAR
VERSION:2.0
PRODID:-//Les Amis des Chemins de Compostelle du Nord - ECPv4.5.1//NONSGML v1.0//EN
CALSCALE:GREGORIAN
METHOD:PUBLISH
X-WR-CALNAME:Les Amis des Chemins de Compostelle du Nord
X-ORIGINAL-URL:https://www.compostelle-nord.com
X-WR-CALDESC:Events for Les Amis des Chemins de Compostelle du Nord
BEGIN:VEVENT
DTSTART;TZID=Europe/Paris:20250913T090000
DTEND;TZID=Europe/Paris:20250913T123000
DTSTAMP:20260422T134939
CREATED:20250801T080203Z
LAST-MODIFIED:20250904T075335Z
UID:6602-1757754000-1757766600@www.compostelle-nord.com
SUMMARY:La route des vins flamands \, La rando des vignes
DESCRIPTION:Randonnée du samedi 13 septembre \, Rendez vous sur le parvis de l’église de Sint Pieterskerk à Loker ( Locre) à 9h15 pour un départ à 9h30.\n\nFacile d’accès\, via l’A25\, sortie Bailleul. Direction LOCRE (LOKER en flamand).\nParking prévu au niveau de l’église.\n\nPour nous guider\, Laurent nous a proposé un parcours autour du Mont Rouge qui permet de découvrir des paysages admirables à chaque saison.\n(dégustation de 2 vins\, un vin orange et un vin rouge\, participation de 5 € par personne  ).\nà consommer avec modèration .\nFin de la randonnée vers 12 h 15.\n\nL'association des amis des chemins de Compostelle recommande à chacun des participants\n\nd'avoir une assurance personnelle pour la randonnée.\n\nNous préconisons à chacun de prendre la "rando-pass" de la Fédération Française de Randonnée Pédestre.\n\n\n\n 
URL:https://www.compostelle-nord.com/event/la-route-des-vins-flamands-la-rando-des-vignes/
LOCATION:loker\, Belgique
END:VEVENT
END:VCALENDAR