BEGIN:VCALENDAR
VERSION:2.0
PRODID:-//Les Amis des Chemins de Compostelle du Nord - ECPv4.5.1//NONSGML v1.0//EN
CALSCALE:GREGORIAN
METHOD:PUBLISH
X-WR-CALNAME:Les Amis des Chemins de Compostelle du Nord
X-ORIGINAL-URL:https://www.compostelle-nord.com
X-WR-CALDESC:Events for Les Amis des Chemins de Compostelle du Nord
BEGIN:VEVENT
DTSTART;TZID=Europe/Paris:20251103T180000
DTEND;TZID=Europe/Paris:20251103T200000
DTSTAMP:20260422T102136
CREATED:20251014T092729Z
LAST-MODIFIED:20251014T112103Z
UID:7000-1762192800-1762200000@www.compostelle-nord.com
SUMMARY:La Beauté et les Chemins de Compostelle - Conference d'Yves de Belleval - Québec -
DESCRIPTION:En collaboration avec " La Passerelle " \, Compostelle Nord vous propose une conference inédite d'Yves de Belleval qui nous vient spécialement du Quebec .\nAvant d’illustrer la beauté sur ses chemins de Compostelle\, Yves nous propose une définition: la beauté est une impression vive susceptible de provoquer l’admiration.\nAdmirer\, dit-il\, dans son sens le plus littéral\, c’est « mirer ailleurs ».\nUn pèlerin est précisément un être qui vit « ailleurs »\, un étranger dans une attitude d’ouverture sur ce qui s’offre à lui.\nDans cette attitude d’ouverture\, il accueille la beauté\, celle des paysages certes\, mais aussi celle de rencontres imprévues\,\ntout aussi bien que celle d’un patrimoine venu d’autres époques\, témoins d’autres mentalités. Parce qu’il provoquent l’admiration\, les chemins de Compostelle conduisent ceux qui y vivent dans une démarche d’introspection et d’éventuelle transformation.\nOuverture des portes à 18 h \, début de la conference à 18 h 30.\nLa Passerelle se situe dans le centre commercial Euralille ( Westfield) \,\nau bout de l'allée qui mène à la passrelle desservant la gare Lille Flandre \, passage situé juste à coté du magasin Sephora au 1° étage.\nAccés gratuit et libre  - Affiche de la conférence La Beauté et le chemin de compostelle\n
URL:https://www.compostelle-nord.com/event/la-beaute-et-les-chemins-de-compostelle-conference-dyves-de-belleval-quebec/
LOCATION:Centre Euralille \, Lille\, 59000\, France
END:VEVENT
END:VCALENDAR