BEGIN:VCALENDAR
VERSION:2.0
PRODID:-//Les Amis des Chemins de Compostelle du Nord - ECPv4.5.1//NONSGML v1.0//EN
CALSCALE:GREGORIAN
METHOD:PUBLISH
X-WR-CALNAME:Les Amis des Chemins de Compostelle du Nord
X-ORIGINAL-URL:https://www.compostelle-nord.com
X-WR-CALDESC:Events for Les Amis des Chemins de Compostelle du Nord
BEGIN:VEVENT
DTSTART;VALUE=DATE:20251108
DTEND;VALUE=DATE:20251108
DTSTAMP:20260420T120325
CREATED:20251014T090731Z
LAST-MODIFIED:20251014T090731Z
UID:6994-1762560000-1762646399@www.compostelle-nord.com
SUMMARY:Randonnée et Repas Retour de Compostelle
DESCRIPTION:C’est l’occasion de mettre à l’honneur et de rencontrer les (nombreux) adhérents de notre association qui sont arrivés à Santiago de Compostelle en 2025.\nCette journée avec randonnée et repas est ouverte à tous\, les Jacquets et les candidats au départ.\n\nProgramme de la randonnée et du repas du samedi 8 novembre 2025\n\n- 9 h 30 départ d’une courte randonnée urbaine de 7 km environ :\nrendez vous à 9h15 face à l’église St-Pierre- St-Paul à Lille (Wazemmes\, place de la Nouvelle-Aventure - Lille )  - Métro Gambetta ou Wazemmes\n-12 h 30 : arrivée au restaurant l’Assiette Mijotée\, 48\, rue Barthélémy-Delespaul- Lille.\n\nVerre de l’amitié offert par l’association.\nDeux menus au choix :\nCarbonade flamande\, frites\, salade de mesclun.\nou\nTarte aux épinards et chèvre\, noix\, salade de mesclun.\nDessert : tarte au citron meringué ou mousse au chocolat.\n- Prix : 30 €\, une boisson incluse dans le menu (1 bière ou 1 verre de vin au choix).\nAprès le repas : présentation de nos pèlerins arrivés à Saint-Jacques cette année 2025.  \n***Important ***: si vous venez d’arriver en 2025 à St-Jacques-de-Compostelle (Santiago)\nmerci de nous prévenir par un message séparé sur notre boîte mail : compostelle.nord@gmail.com\n\nCompte tenu du nombre limité de places au restaurant\, nous vous invitons à nous renvoyer vos inscriptions : Inscription Repas retour de Compostelle\nccompagnées du chèque\, ou paiement par Carte Bancaire\, dès que possible et avant le 1° novembre.\nC'est l'occasion de partager les bons moments passés sur les chemins de Compostelle\net de mettre à l'honneur nos amis arrivés cette année à Saint- Jacques.
URL:https://www.compostelle-nord.com/event/randonnee-et-repas-retour-de-compostelle/
LOCATION:place nouvelle aventure\, Lille\, 59000\, France
END:VEVENT
END:VCALENDAR