BEGIN:VCALENDAR
VERSION:2.0
PRODID:-//Les Amis des Chemins de Compostelle du Nord - ECPv4.5.1//NONSGML v1.0//EN
CALSCALE:GREGORIAN
METHOD:PUBLISH
X-WR-CALNAME:Les Amis des Chemins de Compostelle du Nord
X-ORIGINAL-URL:https://www.compostelle-nord.com
X-WR-CALDESC:Events for Les Amis des Chemins de Compostelle du Nord
BEGIN:VEVENT
DTSTART;TZID=Europe/Paris:20260328T100000
DTEND;TZID=Europe/Paris:20260328T120000
DTSTAMP:20260420T051707
CREATED:20251205T092848Z
LAST-MODIFIED:20251205T092914Z
UID:7105-1774692000-1774699200@www.compostelle-nord.com
SUMMARY:Accueil Pèlerins à la MDA
DESCRIPTION:Accueil des futurs pèlerins par les membres de l’association: information sur les chemins\, adhésion\, demande de credencial…\nLa rue Jean Bart est au centre ville de Lille \, proximité du métro République Beaux-Arts.\n\nattention à vos GPS qui peuvent vous indiquer une autre rue Jean Bart à Hellemmes !\n\nSi vous avez des questions particulières\, merci de les envoyer auparavant par mail à l’association compostelle.nord@gmail.com afin que nous puissions y répondre au mieux !
URL:https://www.compostelle-nord.com/event/accueil-pelerins-a-la-mda-2/
LOCATION:27 rue Jean Bart\, Lille\, 59000\, France
END:VEVENT
END:VCALENDAR